{"text_format":"1","workbook":"xlsx","n_sheets":2,"sheets":["使い方","家財道具"],"not_rendered":{"charts":0,"images":12,"macros":1,"external_links":0,"defined_names":6,"comments":0,"pivot_tables":0},"unopened":[],"bounds":{"document_bytes":16777216,"sheet_cells":100000,"rows_first":2000,"rows_last":500,"rows_between":2000,"halvings":0,"cell_chars":16384,"cell_head_chars":4096},"cells_cut":0,"cells_raw":0,"read":"whole","date_system":"1900"}

{"sheet":"使い方","index":0,"n_rows":0,"n_cols":0,"rows_kept":0,"cut":false,"hidden":false,"merged":[]}

{"sheet":"家財道具","index":1,"n_rows":69,"n_cols":27,"rows_kept":69,"cut":false,"hidden":false,"merged":[[1,2,1,4],[4,26,5,26]]}
[null,null,"自分の暮らし方に見合った家財道具を考えよう"]
[null,null,"①STEP１で選択した合計金額",null,null,{"$f":"SUM(F7:F46)","v":0},"②「必ずいるので買う」「余裕があれば買う」を合計した金額",null,null,null,null,null,null,null,null,null,null,null,null,null,null,null,null,null,null,null,{"$f":"SUM(AA7:AA46)","v":0}]
[]
[]
[null,null,"No","品名","種類","価格","説明","サイズ（㎜）",null,null,"高い",null,"サイズ（㎜）",null,null,"普通",null,"サイズ（㎜）",null,null,"安い",null,"サイズ（㎜）",null,null,"必要度","必要金額"]
[null,null,null,null,null,null,null,"幅","高さ","奥行","価格","説明","幅","高さ","奥行","価格","説明","幅","高さ","奥行","価格","説明","幅","高さ","奥行"]
[null,null,1,"冷蔵庫","いらない",{"$f":"IF($E7=\"\",\"\",IF($E7=\"いらない\",\"\",IF($E7=\"高い\",K7,IF($E7=\"普通\",P7,IF($E7=\"安い\",U7,#REF!)))))","v":""},{"$f":"IF($E7=\"\",\"\",IF($E7=\"いらない\",\"\",IF($E7=\"高い\",L7,IF($E7=\"普通\",Q7,IF($E7=\"安い\",V7,#REF!)))))","v":""},{"$f":"IF($E7=\"\",\"\",IF($E7=\"いらない\",\"\",IF($E7=\"高い\",M7,IF($E7=\"普通\",R7,IF($E7=\"安い\",W7,#REF!)))))","v":""},{"$f":"IF($E7=\"\",\"\",IF($E7=\"いらない\",\"\",IF($E7=\"高い\",N7,IF($E7=\"普通\",S7,IF($E7=\"安い\",X7,#REF!)))))","v":""},{"$f":"IF($E7=\"\",\"\",IF($E7=\"いらない\",\"\",IF($E7=\"高い\",O7,IF($E7=\"普通\",T7,IF($E7=\"安い\",Y7,#REF!)))))","v":""},62500,"270ℓ　２ドア",545,1560,650,36900,"150ℓ　2ドア",479,1080,532,17800,"93ℓ　2ドア",481,860,552,null,{"$f":"IF(Z7=\"必ずいるので買う\",F7,IF(Z7=\"余裕があれば買う\",F7,\"\"))","v":""}]
[null,null,2,"洗濯機","いらない",{"$f":"IF($E8=\"\",\"\",IF($E8=\"いらない\",\"\",IF($E8=\"高い\",K8,IF($E8=\"普通\",P8,IF($E8=\"安い\",U8,#REF!)))))","v":""},{"$f":"IF($E8=\"\",\"\",IF($E8=\"いらない\",\"\",IF($E8=\"高い\",L8,IF($E8=\"普通\",Q8,IF($E8=\"安い\",V8,#REF!)))))","v":""},{"$f":"IF($E8=\"\",\"\",IF($E8=\"いらない\",\"\",IF($E8=\"高い\",M8,IF($E8=\"普通\",R8,IF($E8=\"安い\",W8,#REF!)))))","v":""},{"$f":"IF($E8=\"\",\"\",IF($E8=\"いらない\",\"\",IF($E8=\"高い\",N8,IF($E8=\"普通\",S8,IF($E8=\"安い\",X8,#REF!)))))","v":""},{"$f":"IF($E8=\"\",\"\",IF($E8=\"いらない\",\"\",IF($E8=\"高い\",O8,IF($E8=\"普通\",T8,IF($E8=\"安い\",Y8,#REF!)))))","v":""},148000,"縦型洗濯乾燥機　　8㎏",599,1071,648,78000,"縦型洗濯乾燥機　　8㎏",600,1025,650,33900,"全自動　5Kg",526,888,500,null,{"$f":"IF(Z8=\"必ずいるので買う\",F8,IF(Z8=\"余裕があれば買う\",F8,\"\"))","v":""}]
[null,null,3,"シングルベッド","いらない",{"$f":"IF($E9=\"\",\"\",IF($E9=\"いらない\",\"\",IF($E9=\"高い\",K9,IF($E9=\"普通\",P9,IF($E9=\"安い\",U9,#REF!)))))","v":""},{"$f":"IF($E9=\"\",\"\",IF($E9=\"いらない\",\"\",IF($E9=\"高い\",L9,IF($E9=\"普通\",Q9,IF($E9=\"安い\",V9,#REF!)))))","v":""},{"$f":"IF($E9=\"\",\"\",IF($E9=\"いらない\",\"\",IF($E9=\"高い\",M9,IF($E9=\"普通\",R9,IF($E9=\"安い\",W9,#REF!)))))","v":""},{"$f":"IF($E9=\"\",\"\",IF($E9=\"いらない\",\"\",IF($E9=\"高い\",N9,IF($E9=\"普通\",S9,IF($E9=\"安い\",X9,#REF!)))))","v":""},{"$f":"IF($E9=\"\",\"\",IF($E9=\"いらない\",\"\",IF($E9=\"高い\",O9,IF($E9=\"普通\",T9,IF($E9=\"安い\",Y9,#REF!)))))","v":""},44000,"マットレス付き",990,800,2040,22900,"すのこベッド　ﾏｯﾄﾚｽなし",1010,770,2295,9980,"折りたたみすのこベッド",980,450,2080,null,""]
[null,null,4,"机","いらない",{"$f":"IF($E10=\"\",\"\",IF($E10=\"いらない\",\"\",IF($E10=\"高い\",K10,IF($E10=\"普通\",P10,IF($E10=\"安い\",U10,#REF!)))))","v":""},{"$f":"IF($E10=\"\",\"\",IF($E10=\"いらない\",\"\",IF($E10=\"高い\",L10,IF($E10=\"普通\",Q10,IF($E10=\"安い\",V10,#REF!)))))","v":""},{"$f":"IF($E10=\"\",\"\",IF($E10=\"いらない\",\"\",IF($E10=\"高い\",M10,IF($E10=\"普通\",R10,IF($E10=\"安い\",W10,#REF!)))))","v":""},{"$f":"IF($E10=\"\",\"\",IF($E10=\"いらない\",\"\",IF($E10=\"高い\",N10,IF($E10=\"普通\",S10,IF($E10=\"安い\",X10,#REF!)))))","v":""},{"$f":"IF($E10=\"\",\"\",IF($E10=\"いらない\",\"\",IF($E10=\"高い\",O10,IF($E10=\"普通\",T10,IF($E10=\"安い\",Y10,#REF!)))))","v":""},23900,"システムデスク\n（デスク+チェスト+サイドラック）",1500,720,500,19700,"システムデスク\n（デスク+チェスト）",1150,720,450,3980,"折りたたみ机",800,700,400,null,""]
[null,null,5,"いす","いらない",{"$f":"IF($E11=\"\",\"\",IF($E11=\"いらない\",\"\",IF($E11=\"高い\",K11,IF($E11=\"普通\",P11,IF($E11=\"安い\",U11,#REF!)))))","v":""},{"$f":"IF($E11=\"\",\"\",IF($E11=\"いらない\",\"\",IF($E11=\"高い\",L11,IF($E11=\"普通\",Q11,IF($E11=\"安い\",V11,#REF!)))))","v":""},{"$f":"IF($E11=\"\",\"\",IF($E11=\"いらない\",\"\",IF($E11=\"高い\",M11,IF($E11=\"普通\",R11,IF($E11=\"安い\",W11,#REF!)))))","v":""},{"$f":"IF($E11=\"\",\"\",IF($E11=\"いらない\",\"\",IF($E11=\"高い\",N11,IF($E11=\"普通\",S11,IF($E11=\"安い\",X11,#REF!)))))","v":""},{"$f":"IF($E11=\"\",\"\",IF($E11=\"いらない\",\"\",IF($E11=\"高い\",O11,IF($E11=\"普通\",T11,IF($E11=\"安い\",Y11,#REF!)))))","v":""},12800,"ガス圧チェア",620,870,400,11800,"ガス圧チェア",620,870,400,4990,"ガス圧チェア",530,860,630,null,""]
[null,null,6,"本棚","いらない",{"$f":"IF($E12=\"\",\"\",IF($E12=\"いらない\",\"\",IF($E12=\"高い\",K12,IF($E12=\"普通\",P12,IF($E12=\"安い\",U12,#REF!)))))","v":""},{"$f":"IF($E12=\"\",\"\",IF($E12=\"いらない\",\"\",IF($E12=\"高い\",L12,IF($E12=\"普通\",Q12,IF($E12=\"安い\",V12,#REF!)))))","v":""},{"$f":"IF($E12=\"\",\"\",IF($E12=\"いらない\",\"\",IF($E12=\"高い\",M12,IF($E12=\"普通\",R12,IF($E12=\"安い\",W12,#REF!)))))","v":""},{"$f":"IF($E12=\"\",\"\",IF($E12=\"いらない\",\"\",IF($E12=\"高い\",N12,IF($E12=\"普通\",S12,IF($E12=\"安い\",X12,#REF!)))))","v":""},{"$f":"IF($E12=\"\",\"\",IF($E12=\"いらない\",\"\",IF($E12=\"高い\",O12,IF($E12=\"普通\",T12,IF($E12=\"安い\",Y12,#REF!)))))","v":""},14800,"スライド式",900,900,290,9580,null,590,1800,292,3780,"オープンラック",350,898,290,null,""]
[null,null,7,"レンジ台食器棚","いらない",{"$f":"IF($E13=\"\",\"\",IF($E13=\"いらない\",\"\",IF($E13=\"高い\",K13,IF($E13=\"普通\",P13,IF($E13=\"安い\",U13,#REF!)))))","v":""},{"$f":"IF($E13=\"\",\"\",IF($E13=\"いらない\",\"\",IF($E13=\"高い\",L13,IF($E13=\"普通\",Q13,IF($E13=\"安い\",V13,#REF!)))))","v":""},{"$f":"IF($E13=\"\",\"\",IF($E13=\"いらない\",\"\",IF($E13=\"高い\",M13,IF($E13=\"普通\",R13,IF($E13=\"安い\",W13,#REF!)))))","v":""},{"$f":"IF($E13=\"\",\"\",IF($E13=\"いらない\",\"\",IF($E13=\"高い\",N13,IF($E13=\"普通\",S13,IF($E13=\"安い\",X13,#REF!)))))","v":""},{"$f":"IF($E13=\"\",\"\",IF($E13=\"いらない\",\"\",IF($E13=\"高い\",O13,IF($E13=\"普通\",T13,IF($E13=\"安い\",Y13,#REF!)))))","v":""},41800,null,600,1820,410,22900,null,590,1100,400,14800,null,500,848,390,null,""]
[null,null,8,"テーブル","いらない",{"$f":"IF($E14=\"\",\"\",IF($E14=\"いらない\",\"\",IF($E14=\"高い\",K14,IF($E14=\"普通\",P14,IF($E14=\"安い\",U14,#REF!)))))","v":""},{"$f":"IF($E14=\"\",\"\",IF($E14=\"いらない\",\"\",IF($E14=\"高い\",L14,IF($E14=\"普通\",Q14,IF($E14=\"安い\",V14,#REF!)))))","v":""},{"$f":"IF($E14=\"\",\"\",IF($E14=\"いらない\",\"\",IF($E14=\"高い\",M14,IF($E14=\"普通\",R14,IF($E14=\"安い\",W14,#REF!)))))","v":""},{"$f":"IF($E14=\"\",\"\",IF($E14=\"いらない\",\"\",IF($E14=\"高い\",N14,IF($E14=\"普通\",S14,IF($E14=\"安い\",X14,#REF!)))))","v":""},{"$f":"IF($E14=\"\",\"\",IF($E14=\"いらない\",\"\",IF($E14=\"高い\",O14,IF($E14=\"普通\",T14,IF($E14=\"安い\",Y14,#REF!)))))","v":""},7480,"折りたたみテーブル",900,380,600,5780,"折りたたみテーブル",700,320,500,2980,"ローテーブル",750,350,500,null,""]
[null,null,9,"整理たんす","いらない",{"$f":"IF($E15=\"\",\"\",IF($E15=\"いらない\",\"\",IF($E15=\"高い\",K15,IF($E15=\"普通\",P15,IF($E15=\"安い\",U15,#REF!)))))","v":""},{"$f":"IF($E15=\"\",\"\",IF($E15=\"いらない\",\"\",IF($E15=\"高い\",L15,IF($E15=\"普通\",Q15,IF($E15=\"安い\",V15,#REF!)))))","v":""},{"$f":"IF($E15=\"\",\"\",IF($E15=\"いらない\",\"\",IF($E15=\"高い\",M15,IF($E15=\"普通\",R15,IF($E15=\"安い\",W15,#REF!)))))","v":""},{"$f":"IF($E15=\"\",\"\",IF($E15=\"いらない\",\"\",IF($E15=\"高い\",N15,IF($E15=\"普通\",S15,IF($E15=\"安い\",X15,#REF!)))))","v":""},{"$f":"IF($E15=\"\",\"\",IF($E15=\"いらない\",\"\",IF($E15=\"高い\",O15,IF($E15=\"普通\",T15,IF($E15=\"安い\",Y15,#REF!)))))","v":""},17700,"ローチェスト",1190,470,415,13800,"ハイチェスト４段",542,855,415,null,null,null,null,null,null,""]
[null,null,10,"ソファー","いらない",{"$f":"IF($E16=\"\",\"\",IF($E16=\"いらない\",\"\",IF($E16=\"高い\",K16,IF($E16=\"普通\",P16,IF($E16=\"安い\",U16,#REF!)))))","v":""},{"$f":"IF($E16=\"\",\"\",IF($E16=\"いらない\",\"\",IF($E16=\"高い\",L16,IF($E16=\"普通\",Q16,IF($E16=\"安い\",V16,#REF!)))))","v":""},{"$f":"IF($E16=\"\",\"\",IF($E16=\"いらない\",\"\",IF($E16=\"高い\",M16,IF($E16=\"普通\",R16,IF($E16=\"安い\",W16,#REF!)))))","v":""},{"$f":"IF($E16=\"\",\"\",IF($E16=\"いらない\",\"\",IF($E16=\"高い\",N16,IF($E16=\"普通\",S16,IF($E16=\"安い\",X16,#REF!)))))","v":""},{"$f":"IF($E16=\"\",\"\",IF($E16=\"いらない\",\"\",IF($E16=\"高い\",O16,IF($E16=\"普通\",T16,IF($E16=\"安い\",Y16,#REF!)))))","v":""},27680,"3人掛け",1800,770,800,12800,"２人掛け",1220,700,600,null,null,null,null,null,null,""]
[null,null,11,"こたつ","いらない",{"$f":"IF($E17=\"\",\"\",IF($E17=\"いらない\",\"\",IF($E17=\"高い\",K17,IF($E17=\"普通\",P17,IF($E17=\"安い\",U17,#REF!)))))","v":""},{"$f":"IF($E17=\"\",\"\",IF($E17=\"いらない\",\"\",IF($E17=\"高い\",L17,IF($E17=\"普通\",Q17,IF($E17=\"安い\",V17,#REF!)))))","v":""},{"$f":"IF($E17=\"\",\"\",IF($E17=\"いらない\",\"\",IF($E17=\"高い\",M17,IF($E17=\"普通\",R17,IF($E17=\"安い\",W17,#REF!)))))","v":""},{"$f":"IF($E17=\"\",\"\",IF($E17=\"いらない\",\"\",IF($E17=\"高い\",N17,IF($E17=\"普通\",S17,IF($E17=\"安い\",X17,#REF!)))))","v":""},{"$f":"IF($E17=\"\",\"\",IF($E17=\"いらない\",\"\",IF($E17=\"高い\",O17,IF($E17=\"普通\",T17,IF($E17=\"安い\",Y17,#REF!)))))","v":""},null,null,"-","-","-",19700,"フラットヒーター、継足つき",600,350,900,13800,"正方形こたつ",750,393,750,null,""]
[null,null,12,"こたつ布団","いらない",{"$f":"IF($E18=\"\",\"\",IF($E18=\"いらない\",\"\",IF($E18=\"高い\",K18,IF($E18=\"普通\",P18,IF($E18=\"安い\",U18,#REF!)))))","v":""},{"$f":"IF($E18=\"\",\"\",IF($E18=\"いらない\",\"\",IF($E18=\"高い\",L18,IF($E18=\"普通\",Q18,IF($E18=\"安い\",V18,#REF!)))))","v":""},{"$f":"IF($E18=\"\",\"\",IF($E18=\"いらない\",\"\",IF($E18=\"高い\",M18,IF($E18=\"普通\",R18,IF($E18=\"安い\",W18,#REF!)))))","v":""},{"$f":"IF($E18=\"\",\"\",IF($E18=\"いらない\",\"\",IF($E18=\"高い\",N18,IF($E18=\"普通\",S18,IF($E18=\"安い\",X18,#REF!)))))","v":""},{"$f":"IF($E18=\"\",\"\",IF($E18=\"いらない\",\"\",IF($E18=\"高い\",O18,IF($E18=\"普通\",T18,IF($E18=\"安い\",Y18,#REF!)))))","v":""},null,null,"-","-","-",13800,"掛け敷セット　長方形","-","-","-",11800,"掛け敷セット　正方形","-","-","-",null,""]
[null,null,13,"布団セット","いらない",{"$f":"IF($E19=\"\",\"\",IF($E19=\"いらない\",\"\",IF($E19=\"高い\",K19,IF($E19=\"普通\",P19,IF($E19=\"安い\",U19,#REF!)))))","v":""},{"$f":"IF($E19=\"\",\"\",IF($E19=\"いらない\",\"\",IF($E19=\"高い\",L19,IF($E19=\"普通\",Q19,IF($E19=\"安い\",V19,#REF!)))))","v":""},{"$f":"IF($E19=\"\",\"\",IF($E19=\"いらない\",\"\",IF($E19=\"高い\",M19,IF($E19=\"普通\",R19,IF($E19=\"安い\",W19,#REF!)))))","v":""},{"$f":"IF($E19=\"\",\"\",IF($E19=\"いらない\",\"\",IF($E19=\"高い\",N19,IF($E19=\"普通\",S19,IF($E19=\"安い\",X19,#REF!)))))","v":""},{"$f":"IF($E19=\"\",\"\",IF($E19=\"いらない\",\"\",IF($E19=\"高い\",O19,IF($E19=\"普通\",T19,IF($E19=\"安い\",Y19,#REF!)))))","v":""},49900,"無圧　3点　羽毛","-","-","-",32200,"羽毛　3点","-","-","-",29800,"ポリエステル100％","-","-","-",null,""]
[null,null,14,"布団カバー３点","いらない",{"$f":"IF($E20=\"\",\"\",IF($E20=\"いらない\",\"\",IF($E20=\"高い\",K20,IF($E20=\"普通\",P20,IF($E20=\"安い\",U20,#REF!)))))","v":""},{"$f":"IF($E20=\"\",\"\",IF($E20=\"いらない\",\"\",IF($E20=\"高い\",L20,IF($E20=\"普通\",Q20,IF($E20=\"安い\",V20,#REF!)))))","v":""},{"$f":"IF($E20=\"\",\"\",IF($E20=\"いらない\",\"\",IF($E20=\"高い\",M20,IF($E20=\"普通\",R20,IF($E20=\"安い\",W20,#REF!)))))","v":""},{"$f":"IF($E20=\"\",\"\",IF($E20=\"いらない\",\"\",IF($E20=\"高い\",N20,IF($E20=\"普通\",S20,IF($E20=\"安い\",X20,#REF!)))))","v":""},{"$f":"IF($E20=\"\",\"\",IF($E20=\"いらない\",\"\",IF($E20=\"高い\",O20,IF($E20=\"普通\",T20,IF($E20=\"安い\",Y20,#REF!)))))","v":""},null,null,"-","-","-",6280,"綿100％","-","-","-",null,null,null,null,null,null,""]
[null,null,15,"カーテン掃出し窓","いらない",{"$f":"IF($E21=\"\",\"\",IF($E21=\"いらない\",\"\",IF($E21=\"高い\",K21,IF($E21=\"普通\",P21,IF($E21=\"安い\",U21,#REF!)))))","v":""},{"$f":"IF($E21=\"\",\"\",IF($E21=\"いらない\",\"\",IF($E21=\"高い\",L21,IF($E21=\"普通\",Q21,IF($E21=\"安い\",V21,#REF!)))))","v":""},{"$f":"IF($E21=\"\",\"\",IF($E21=\"いらない\",\"\",IF($E21=\"高い\",M21,IF($E21=\"普通\",R21,IF($E21=\"安い\",W21,#REF!)))))","v":""},{"$f":"IF($E21=\"\",\"\",IF($E21=\"いらない\",\"\",IF($E21=\"高い\",N21,IF($E21=\"普通\",S21,IF($E21=\"安い\",X21,#REF!)))))","v":""},{"$f":"IF($E21=\"\",\"\",IF($E21=\"いらない\",\"\",IF($E21=\"高い\",O21,IF($E21=\"普通\",T21,IF($E21=\"安い\",Y21,#REF!)))))","v":""},15000,"遮光　2枚　防炎　ポリエステル100％",1000,2500,"-",10080,"遮光　2枚　防炎　ポリエステル100％",1000,2500,"-",7800,"2枚　防炎　ポリエステル100％",1000,2500,"-",null,""]
[null,null,16,"レースカーテン掃出し窓","いらない",{"$f":"IF($E22=\"\",\"\",IF($E22=\"いらない\",\"\",IF($E22=\"高い\",K22,IF($E22=\"普通\",P22,IF($E22=\"安い\",U22,#REF!)))))","v":""},{"$f":"IF($E22=\"\",\"\",IF($E22=\"いらない\",\"\",IF($E22=\"高い\",L22,IF($E22=\"普通\",Q22,IF($E22=\"安い\",V22,#REF!)))))","v":""},{"$f":"IF($E22=\"\",\"\",IF($E22=\"いらない\",\"\",IF($E22=\"高い\",M22,IF($E22=\"普通\",R22,IF($E22=\"安い\",W22,#REF!)))))","v":""},{"$f":"IF($E22=\"\",\"\",IF($E22=\"いらない\",\"\",IF($E22=\"高い\",N22,IF($E22=\"普通\",S22,IF($E22=\"安い\",X22,#REF!)))))","v":""},{"$f":"IF($E22=\"\",\"\",IF($E22=\"いらない\",\"\",IF($E22=\"高い\",O22,IF($E22=\"普通\",T22,IF($E22=\"安い\",Y22,#REF!)))))","v":""},10000,"2枚　防炎　ポリエステル100％",1000,2480,"-",7080,"2枚　防炎　ポリエステル100％",1000,2480,"-",5000,"2枚　防炎　ポリエステル100％",1000,2480,"-",null,""]
[null,null,17,"カーテン腰高窓","いらない",{"$f":"IF($E23=\"\",\"\",IF($E23=\"いらない\",\"\",IF($E23=\"高い\",K23,IF($E23=\"普通\",P23,IF($E23=\"安い\",U23,#REF!)))))","v":""},{"$f":"IF($E23=\"\",\"\",IF($E23=\"いらない\",\"\",IF($E23=\"高い\",L23,IF($E23=\"普通\",Q23,IF($E23=\"安い\",V23,#REF!)))))","v":""},{"$f":"IF($E23=\"\",\"\",IF($E23=\"いらない\",\"\",IF($E23=\"高い\",M23,IF($E23=\"普通\",R23,IF($E23=\"安い\",W23,#REF!)))))","v":""},{"$f":"IF($E23=\"\",\"\",IF($E23=\"いらない\",\"\",IF($E23=\"高い\",N23,IF($E23=\"普通\",S23,IF($E23=\"安い\",X23,#REF!)))))","v":""},{"$f":"IF($E23=\"\",\"\",IF($E23=\"いらない\",\"\",IF($E23=\"高い\",O23,IF($E23=\"普通\",T23,IF($E23=\"安い\",Y23,#REF!)))))","v":""},10000,"遮光　2枚　防炎　ポリエステル100％",500,1350,"-",7080,"遮光　2枚　防炎　ポリエステル100％",500,1350,"-",5080,"2枚　防炎　ポリエステル100％",500,1350,"-",null,""]
[null,null,18,"レースカーテン腰高窓","いらない",{"$f":"IF($E24=\"\",\"\",IF($E24=\"いらない\",\"\",IF($E24=\"高い\",K24,IF($E24=\"普通\",P24,IF($E24=\"安い\",U24,#REF!)))))","v":""},{"$f":"IF($E24=\"\",\"\",IF($E24=\"いらない\",\"\",IF($E24=\"高い\",L24,IF($E24=\"普通\",Q24,IF($E24=\"安い\",V24,#REF!)))))","v":""},{"$f":"IF($E24=\"\",\"\",IF($E24=\"いらない\",\"\",IF($E24=\"高い\",M24,IF($E24=\"普通\",R24,IF($E24=\"安い\",W24,#REF!)))))","v":""},{"$f":"IF($E24=\"\",\"\",IF($E24=\"いらない\",\"\",IF($E24=\"高い\",N24,IF($E24=\"普通\",S24,IF($E24=\"安い\",X24,#REF!)))))","v":""},{"$f":"IF($E24=\"\",\"\",IF($E24=\"いらない\",\"\",IF($E24=\"高い\",O24,IF($E24=\"普通\",T24,IF($E24=\"安い\",Y24,#REF!)))))","v":""},7000,"2枚　防炎　ポリエステル100％",500,1330,"-",4780,"2枚　防炎　ポリエステル100％",500,1330,"-",3380,"2枚　防炎　ポリエステル100％",500,1330,"-",null,""]
[null,null,19,"ダストボックス","いらない",{"$f":"IF($E25=\"\",\"\",IF($E25=\"いらない\",\"\",IF($E25=\"高い\",K25,IF($E25=\"普通\",P25,IF($E25=\"安い\",U25,#REF!)))))","v":""},{"$f":"IF($E25=\"\",\"\",IF($E25=\"いらない\",\"\",IF($E25=\"高い\",L25,IF($E25=\"普通\",Q25,IF($E25=\"安い\",V25,#REF!)))))","v":""},{"$f":"IF($E25=\"\",\"\",IF($E25=\"いらない\",\"\",IF($E25=\"高い\",M25,IF($E25=\"普通\",R25,IF($E25=\"安い\",W25,#REF!)))))","v":""},{"$f":"IF($E25=\"\",\"\",IF($E25=\"いらない\",\"\",IF($E25=\"高い\",N25,IF($E25=\"普通\",S25,IF($E25=\"安い\",X25,#REF!)))))","v":""},{"$f":"IF($E25=\"\",\"\",IF($E25=\"いらない\",\"\",IF($E25=\"高い\",O25,IF($E25=\"普通\",T25,IF($E25=\"安い\",Y25,#REF!)))))","v":""},19000,"タテ薄型3分別",345,1395,250,6480,"タテ薄型2分別",400,280,760,2880,"タテ型2段",232,820,368,null,""]
[null,null,20,"プラスチックチェスト","いらない",{"$f":"IF($E26=\"\",\"\",IF($E26=\"いらない\",\"\",IF($E26=\"高い\",K26,IF($E26=\"普通\",P26,IF($E26=\"安い\",U26,#REF!)))))","v":""},{"$f":"IF($E26=\"\",\"\",IF($E26=\"いらない\",\"\",IF($E26=\"高い\",L26,IF($E26=\"普通\",Q26,IF($E26=\"安い\",V26,#REF!)))))","v":""},{"$f":"IF($E26=\"\",\"\",IF($E26=\"いらない\",\"\",IF($E26=\"高い\",M26,IF($E26=\"普通\",R26,IF($E26=\"安い\",W26,#REF!)))))","v":""},{"$f":"IF($E26=\"\",\"\",IF($E26=\"いらない\",\"\",IF($E26=\"高い\",N26,IF($E26=\"普通\",S26,IF($E26=\"安い\",X26,#REF!)))))","v":""},{"$f":"IF($E26=\"\",\"\",IF($E26=\"いらない\",\"\",IF($E26=\"高い\",O26,IF($E26=\"普通\",T26,IF($E26=\"安い\",Y26,#REF!)))))","v":""},5970,"4段",540,875,420,3780,"3段",540,670,420,1980,"3段",540,610,400,null,""]
[null,null,21,"ＴＶ","いらない",{"$f":"IF($E27=\"\",\"\",IF($E27=\"いらない\",\"\",IF($E27=\"高い\",K27,IF($E27=\"普通\",P27,IF($E27=\"安い\",U27,#REF!)))))","v":""},{"$f":"IF($E27=\"\",\"\",IF($E27=\"いらない\",\"\",IF($E27=\"高い\",L27,IF($E27=\"普通\",Q27,IF($E27=\"安い\",V27,#REF!)))))","v":""},{"$f":"IF($E27=\"\",\"\",IF($E27=\"いらない\",\"\",IF($E27=\"高い\",M27,IF($E27=\"普通\",R27,IF($E27=\"安い\",W27,#REF!)))))","v":""},{"$f":"IF($E27=\"\",\"\",IF($E27=\"いらない\",\"\",IF($E27=\"高い\",N27,IF($E27=\"普通\",S27,IF($E27=\"安い\",X27,#REF!)))))","v":""},{"$f":"IF($E27=\"\",\"\",IF($E27=\"いらない\",\"\",IF($E27=\"高い\",O27,IF($E27=\"普通\",T27,IF($E27=\"安い\",Y27,#REF!)))))","v":""},59900,"40型液晶",913,574,192,36900,"32型",730,480,185,24800,"24型",570,380,170,null,{"$f":"IF(Z27=\"必ずいるので買う\",F27,IF(Z27=\"余裕があれば買う\",F27,\"\"))","v":""}]
[null,null,22,"ＴＶボード","いらない",{"$f":"IF($E28=\"\",\"\",IF($E28=\"いらない\",\"\",IF($E28=\"高い\",K28,IF($E28=\"普通\",P28,IF($E28=\"安い\",U28,#REF!)))))","v":""},{"$f":"IF($E28=\"\",\"\",IF($E28=\"いらない\",\"\",IF($E28=\"高い\",L28,IF($E28=\"普通\",Q28,IF($E28=\"安い\",V28,#REF!)))))","v":""},{"$f":"IF($E28=\"\",\"\",IF($E28=\"いらない\",\"\",IF($E28=\"高い\",M28,IF($E28=\"普通\",R28,IF($E28=\"安い\",W28,#REF!)))))","v":""},{"$f":"IF($E28=\"\",\"\",IF($E28=\"いらない\",\"\",IF($E28=\"高い\",N28,IF($E28=\"普通\",S28,IF($E28=\"安い\",X28,#REF!)))))","v":""},{"$f":"IF($E28=\"\",\"\",IF($E28=\"いらない\",\"\",IF($E28=\"高い\",O28,IF($E28=\"普通\",T28,IF($E28=\"安い\",Y28,#REF!)))))","v":""},13800,"ガラス付き",800,302,390,9980,"ローボード　ガラスなし",800,290,400,5970,"オープンタイプ",890,290,360,null,{"$f":"IF(Z28=\"必ずいるので買う\",F28,IF(Z28=\"余裕があれば買う\",F28,\"\"))","v":""}]
[null,null,23,"ミラー","いらない",{"$f":"IF($E29=\"\",\"\",IF($E29=\"いらない\",\"\",IF($E29=\"高い\",K29,IF($E29=\"普通\",P29,IF($E29=\"安い\",U29,#REF!)))))","v":""},{"$f":"IF($E29=\"\",\"\",IF($E29=\"いらない\",\"\",IF($E29=\"高い\",L29,IF($E29=\"普通\",Q29,IF($E29=\"安い\",V29,#REF!)))))","v":""},{"$f":"IF($E29=\"\",\"\",IF($E29=\"いらない\",\"\",IF($E29=\"高い\",M29,IF($E29=\"普通\",R29,IF($E29=\"安い\",W29,#REF!)))))","v":""},{"$f":"IF($E29=\"\",\"\",IF($E29=\"いらない\",\"\",IF($E29=\"高い\",N29,IF($E29=\"普通\",S29,IF($E29=\"安い\",X29,#REF!)))))","v":""},{"$f":"IF($E29=\"\",\"\",IF($E29=\"いらない\",\"\",IF($E29=\"高い\",O29,IF($E29=\"普通\",T29,IF($E29=\"安い\",Y29,#REF!)))))","v":""},13800,"ストッカー付き",350,1700,300,null,null,"-","-","-",1980,"スタンド式　ミラーのみ",220,1450,"-",null,""]
[null,null,24,"コンロ","いらない",{"$f":"IF($E30=\"\",\"\",IF($E30=\"いらない\",\"\",IF($E30=\"高い\",K30,IF($E30=\"普通\",P30,IF($E30=\"安い\",U30,#REF!)))))","v":""},{"$f":"IF($E30=\"\",\"\",IF($E30=\"いらない\",\"\",IF($E30=\"高い\",L30,IF($E30=\"普通\",Q30,IF($E30=\"安い\",V30,#REF!)))))","v":""},{"$f":"IF($E30=\"\",\"\",IF($E30=\"いらない\",\"\",IF($E30=\"高い\",M30,IF($E30=\"普通\",R30,IF($E30=\"安い\",W30,#REF!)))))","v":""},{"$f":"IF($E30=\"\",\"\",IF($E30=\"いらない\",\"\",IF($E30=\"高い\",N30,IF($E30=\"普通\",S30,IF($E30=\"安い\",X30,#REF!)))))","v":""},{"$f":"IF($E30=\"\",\"\",IF($E30=\"いらない\",\"\",IF($E30=\"高い\",O30,IF($E30=\"普通\",T30,IF($E30=\"安い\",Y30,#REF!)))))","v":""},24800,"ガス2口　魚焼きグリル付き","-","-","-",9980,"　IH　1口","-","-","-",6280,"ガス　1口","-","-","-",null,""]
[null,null,25,"炊飯器","いらない",{"$f":"IF($E31=\"\",\"\",IF($E31=\"いらない\",\"\",IF($E31=\"高い\",K31,IF($E31=\"普通\",P31,IF($E31=\"安い\",U31,#REF!)))))","v":""},{"$f":"IF($E31=\"\",\"\",IF($E31=\"いらない\",\"\",IF($E31=\"高い\",L31,IF($E31=\"普通\",Q31,IF($E31=\"安い\",V31,#REF!)))))","v":""},{"$f":"IF($E31=\"\",\"\",IF($E31=\"いらない\",\"\",IF($E31=\"高い\",M31,IF($E31=\"普通\",R31,IF($E31=\"安い\",W31,#REF!)))))","v":""},{"$f":"IF($E31=\"\",\"\",IF($E31=\"いらない\",\"\",IF($E31=\"高い\",N31,IF($E31=\"普通\",S31,IF($E31=\"安い\",X31,#REF!)))))","v":""},{"$f":"IF($E31=\"\",\"\",IF($E31=\"いらない\",\"\",IF($E31=\"高い\",O31,IF($E31=\"普通\",T31,IF($E31=\"安い\",Y31,#REF!)))))","v":""},84800,"圧力IHジャー極み羽釜5.5合炊","-","-","-",19900,"  IH　5.5合炊","-","-","-",8980,"マイコン　3合炊き","-","-","-",null,""]
[null,null,26,"オーブント－スター","いらない",{"$f":"IF($E32=\"\",\"\",IF($E32=\"いらない\",\"\",IF($E32=\"高い\",K32,IF($E32=\"普通\",P32,IF($E32=\"安い\",U32,#REF!)))))","v":""},{"$f":"IF($E32=\"\",\"\",IF($E32=\"いらない\",\"\",IF($E32=\"高い\",L32,IF($E32=\"普通\",Q32,IF($E32=\"安い\",V32,#REF!)))))","v":""},{"$f":"IF($E32=\"\",\"\",IF($E32=\"いらない\",\"\",IF($E32=\"高い\",M32,IF($E32=\"普通\",R32,IF($E32=\"安い\",W32,#REF!)))))","v":""},{"$f":"IF($E32=\"\",\"\",IF($E32=\"いらない\",\"\",IF($E32=\"高い\",N32,IF($E32=\"普通\",S32,IF($E32=\"安い\",X32,#REF!)))))","v":""},{"$f":"IF($E32=\"\",\"\",IF($E32=\"いらない\",\"\",IF($E32=\"高い\",O32,IF($E32=\"普通\",T32,IF($E32=\"安い\",Y32,#REF!)))))","v":""},null,null,"-","-","-",5470,"1200ｗ","-","-","-",2480,"1000ｗ","-","-","-",null,""]
[null,null,27,"電子レンジ","いらない",{"$f":"IF($E33=\"\",\"\",IF($E33=\"いらない\",\"\",IF($E33=\"高い\",K33,IF($E33=\"普通\",P33,IF($E33=\"安い\",U33,#REF!)))))","v":""},{"$f":"IF($E33=\"\",\"\",IF($E33=\"いらない\",\"\",IF($E33=\"高い\",L33,IF($E33=\"普通\",Q33,IF($E33=\"安い\",V33,#REF!)))))","v":""},{"$f":"IF($E33=\"\",\"\",IF($E33=\"いらない\",\"\",IF($E33=\"高い\",M33,IF($E33=\"普通\",R33,IF($E33=\"安い\",W33,#REF!)))))","v":""},{"$f":"IF($E33=\"\",\"\",IF($E33=\"いらない\",\"\",IF($E33=\"高い\",N33,IF($E33=\"普通\",S33,IF($E33=\"安い\",X33,#REF!)))))","v":""},{"$f":"IF($E33=\"\",\"\",IF($E33=\"いらない\",\"\",IF($E33=\"高い\",O33,IF($E33=\"普通\",T33,IF($E33=\"安い\",Y33,#REF!)))))","v":""},23900,"オーブンレンジ両面ヒーター","-","-","-",18900,"縦開きドア","-","-","-",13800,"温め機能のみ","-","-","-",null,""]
[null,null,28,"電気ケトル","いらない",{"$f":"IF($E34=\"\",\"\",IF($E34=\"いらない\",\"\",IF($E34=\"高い\",K34,IF($E34=\"普通\",P34,IF($E34=\"安い\",U34,#REF!)))))","v":""},{"$f":"IF($E34=\"\",\"\",IF($E34=\"いらない\",\"\",IF($E34=\"高い\",L34,IF($E34=\"普通\",Q34,IF($E34=\"安い\",V34,#REF!)))))","v":""},{"$f":"IF($E34=\"\",\"\",IF($E34=\"いらない\",\"\",IF($E34=\"高い\",M34,IF($E34=\"普通\",R34,IF($E34=\"安い\",W34,#REF!)))))","v":""},{"$f":"IF($E34=\"\",\"\",IF($E34=\"いらない\",\"\",IF($E34=\"高い\",N34,IF($E34=\"普通\",S34,IF($E34=\"安い\",X34,#REF!)))))","v":""},{"$f":"IF($E34=\"\",\"\",IF($E34=\"いらない\",\"\",IF($E34=\"高い\",O34,IF($E34=\"普通\",T34,IF($E34=\"安い\",Y34,#REF!)))))","v":""},4880,"0.8ℓ","-","-","-",3300,null,"-","-","-",2980,"1.5ℓ","-","-","-",null,""]
[null,null,29,"掃除機","いらない",{"$f":"IF($E35=\"\",\"\",IF($E35=\"いらない\",\"\",IF($E35=\"高い\",K35,IF($E35=\"普通\",P35,IF($E35=\"安い\",U35,#REF!)))))","v":""},{"$f":"IF($E35=\"\",\"\",IF($E35=\"いらない\",\"\",IF($E35=\"高い\",L35,IF($E35=\"普通\",Q35,IF($E35=\"安い\",V35,#REF!)))))","v":""},{"$f":"IF($E35=\"\",\"\",IF($E35=\"いらない\",\"\",IF($E35=\"高い\",M35,IF($E35=\"普通\",R35,IF($E35=\"安い\",W35,#REF!)))))","v":""},{"$f":"IF($E35=\"\",\"\",IF($E35=\"いらない\",\"\",IF($E35=\"高い\",N35,IF($E35=\"普通\",S35,IF($E35=\"安い\",X35,#REF!)))))","v":""},{"$f":"IF($E35=\"\",\"\",IF($E35=\"いらない\",\"\",IF($E35=\"高い\",O35,IF($E35=\"普通\",T35,IF($E35=\"安い\",Y35,#REF!)))))","v":""},37800,"紙パック式","-","-","-",22800,"コードレススティック型","-","-","-",7980,"サイクロン式","-","-","-",null,""]
[null,null,30,"エアコン","いらない",{"$f":"IF($E36=\"\",\"\",IF($E36=\"いらない\",\"\",IF($E36=\"高い\",K36,IF($E36=\"普通\",P36,IF($E36=\"安い\",U36,#REF!)))))","v":""},{"$f":"IF($E36=\"\",\"\",IF($E36=\"いらない\",\"\",IF($E36=\"高い\",L36,IF($E36=\"普通\",Q36,IF($E36=\"安い\",V36,#REF!)))))","v":""},{"$f":"IF($E36=\"\",\"\",IF($E36=\"いらない\",\"\",IF($E36=\"高い\",M36,IF($E36=\"普通\",R36,IF($E36=\"安い\",W36,#REF!)))))","v":""},{"$f":"IF($E36=\"\",\"\",IF($E36=\"いらない\",\"\",IF($E36=\"高い\",N36,IF($E36=\"普通\",S36,IF($E36=\"安い\",X36,#REF!)))))","v":""},{"$f":"IF($E36=\"\",\"\",IF($E36=\"いらない\",\"\",IF($E36=\"高い\",O36,IF($E36=\"普通\",T36,IF($E36=\"安い\",Y36,#REF!)))))","v":""},84800,"除菌　自動清掃　省エネ","-","-","-",74800,"除菌　快適気流　省エネ","-","-","-",56800,"省エネ","-","-","-",null,""]
[null,null,31,"DVD/ブルーレイデッキ","いらない",{"$f":"IF($E37=\"\",\"\",IF($E37=\"いらない\",\"\",IF($E37=\"高い\",K37,IF($E37=\"普通\",P37,IF($E37=\"安い\",U37,#REF!)))))","v":""},{"$f":"IF($E37=\"\",\"\",IF($E37=\"いらない\",\"\",IF($E37=\"高い\",L37,IF($E37=\"普通\",Q37,IF($E37=\"安い\",V37,#REF!)))))","v":""},{"$f":"IF($E37=\"\",\"\",IF($E37=\"いらない\",\"\",IF($E37=\"高い\",M37,IF($E37=\"普通\",R37,IF($E37=\"安い\",W37,#REF!)))))","v":""},{"$f":"IF($E37=\"\",\"\",IF($E37=\"いらない\",\"\",IF($E37=\"高い\",N37,IF($E37=\"普通\",S37,IF($E37=\"安い\",X37,#REF!)))))","v":""},{"$f":"IF($E37=\"\",\"\",IF($E37=\"いらない\",\"\",IF($E37=\"高い\",O37,IF($E37=\"普通\",T37,IF($E37=\"安い\",Y37,#REF!)))))","v":""},52800,"2番組同時録画","-","-","-",39000,"ブルーレイレコーダー","-","-","-",16800,"再生専用","-","-","-",null,""]
[null,null,32,"シーリングライト","いらない",{"$f":"IF($E38=\"\",\"\",IF($E38=\"いらない\",\"\",IF($E38=\"高い\",K38,IF($E38=\"普通\",P38,IF($E38=\"安い\",U38,#REF!)))))","v":""},{"$f":"IF($E38=\"\",\"\",IF($E38=\"いらない\",\"\",IF($E38=\"高い\",L38,IF($E38=\"普通\",Q38,IF($E38=\"安い\",V38,#REF!)))))","v":""},{"$f":"IF($E38=\"\",\"\",IF($E38=\"いらない\",\"\",IF($E38=\"高い\",M38,IF($E38=\"普通\",R38,IF($E38=\"安い\",W38,#REF!)))))","v":""},{"$f":"IF($E38=\"\",\"\",IF($E38=\"いらない\",\"\",IF($E38=\"高い\",N38,IF($E38=\"普通\",S38,IF($E38=\"安い\",X38,#REF!)))))","v":""},{"$f":"IF($E38=\"\",\"\",IF($E38=\"いらない\",\"\",IF($E38=\"高い\",O38,IF($E38=\"普通\",T38,IF($E38=\"安い\",Y38,#REF!)))))","v":""},8980,"LEDリモコン付き","-","-","-",6400,"LEDリモコン付き","-","-","-",3700,"OFFタイマー付き","-","-","-",null,""]
[null,null,33,"スタンド照明","いらない",{"$f":"IF($E39=\"\",\"\",IF($E39=\"いらない\",\"\",IF($E39=\"高い\",K39,IF($E39=\"普通\",P39,IF($E39=\"安い\",U39,#REF!)))))","v":""},{"$f":"IF($E39=\"\",\"\",IF($E39=\"いらない\",\"\",IF($E39=\"高い\",L39,IF($E39=\"普通\",Q39,IF($E39=\"安い\",V39,#REF!)))))","v":""},{"$f":"IF($E39=\"\",\"\",IF($E39=\"いらない\",\"\",IF($E39=\"高い\",M39,IF($E39=\"普通\",R39,IF($E39=\"安い\",W39,#REF!)))))","v":""},{"$f":"IF($E39=\"\",\"\",IF($E39=\"いらない\",\"\",IF($E39=\"高い\",N39,IF($E39=\"普通\",S39,IF($E39=\"安い\",X39,#REF!)))))","v":""},{"$f":"IF($E39=\"\",\"\",IF($E39=\"いらない\",\"\",IF($E39=\"高い\",O39,IF($E39=\"普通\",T39,IF($E39=\"安い\",Y39,#REF!)))))","v":""},9680,"LED9ｗ","-","-","-",7580,"LED9ｗ","-","-","-",4000,"LED7ｗ","-","-","-",null,""]
[null,null,34,"ベッド下収納ケース","いらない",{"$f":"IF($E40=\"\",\"\",IF($E40=\"いらない\",\"\",IF($E40=\"高い\",K40,IF($E40=\"普通\",P40,IF($E40=\"安い\",U40,#REF!)))))","v":""},{"$f":"IF($E40=\"\",\"\",IF($E40=\"いらない\",\"\",IF($E40=\"高い\",L40,IF($E40=\"普通\",Q40,IF($E40=\"安い\",V40,#REF!)))))","v":""},{"$f":"IF($E40=\"\",\"\",IF($E40=\"いらない\",\"\",IF($E40=\"高い\",M40,IF($E40=\"普通\",R40,IF($E40=\"安い\",W40,#REF!)))))","v":""},{"$f":"IF($E40=\"\",\"\",IF($E40=\"いらない\",\"\",IF($E40=\"高い\",N40,IF($E40=\"普通\",S40,IF($E40=\"安い\",X40,#REF!)))))","v":""},{"$f":"IF($E40=\"\",\"\",IF($E40=\"いらない\",\"\",IF($E40=\"高い\",O40,IF($E40=\"普通\",T40,IF($E40=\"安い\",Y40,#REF!)))))","v":""},null,null,null,null,null,6280,"2個",390,300,740,1280,"1個",390,230,740,null,""]
[null,null,35,null,null,null,null,null,null,null,null,null,null,null,null,null,null,null,null,null,null,null,null,null,null,null,{"$f":"F41","v":0}]
[null,null,36,null,null,null,null,null,null,null,null,null,null,null,null,null,null,null,null,null,null,null,null,null,null,null,0]
[null,null,37,null,null,null,null,null,null,null,null,null,null,null,null,null,null,null,null,null,null,null,null,null,null,null,0]
[null,null,38,null,null,null,null,null,null,null,null,null,null,null,null,null,null,null,null,null,null,null,null,null,null,null,0]
[null,null,39,null,null,null,null,null,null,null,null,null,null,null,null,null,null,null,null,null,null,null,null,null,null,null,0]
[null,null,40,null,null,null,null,null,null,null,null,null,null,null,null,null,null,null,null,null,null,null,null,null,null,null,0]
[]
[]
[]
[]
[]
[]
[]
[]
[]
[]
[]
[]
[]
[]
[]
[]
[]
[]
[]
[]
[]
[]
[null,"いらない"]